Package: meshes Version: 1.37.0 Command: /home/biocbuild/bbs-3.23-bioc/R/bin/R CMD build --keep-empty-dirs --no-resave-data meshes StartedAt: 2025-11-05 18:32:23 -0500 (Wed, 05 Nov 2025) EndedAt: 2025-11-05 18:32:49 -0500 (Wed, 05 Nov 2025) EllapsedTime: 26.0 seconds RetCode: 0 Status: OK PackageFile: meshes_1.37.0.tar.gz PackageFileSize: 922.1 KiB