Package: meshes Version: 1.35.0 Command: /Library/Frameworks/R.framework/Resources/bin/R CMD INSTALL meshes StartedAt: 2025-10-05 15:41:10 -0400 (Sun, 05 Oct 2025) EndedAt: 2025-10-05 15:41:45 -0400 (Sun, 05 Oct 2025) EllapsedTime: 35.8 seconds RetCode: 0 Status: OK