Package: meshes Version: 1.35.0 Command: /Library/Frameworks/R.framework/Resources/bin/R CMD build --keep-empty-dirs --no-resave-data meshes StartedAt: 2025-10-05 17:43:06 -0400 (Sun, 05 Oct 2025) EndedAt: 2025-10-05 17:43:46 -0400 (Sun, 05 Oct 2025) EllapsedTime: 40.2 seconds RetCode: 0 Status: OK PackageFile: meshes_1.35.0.tar.gz PackageFileSize: 922.1 KiB