Package: memes Version: 1.19.0 Command: /Library/Frameworks/R.framework/Resources/bin/R CMD INSTALL memes StartedAt: 2025-11-21 15:11:08 -0500 (Fri, 21 Nov 2025) EndedAt: 2025-11-21 15:11:15 -0500 (Fri, 21 Nov 2025) EllapsedTime: 6.2 seconds RetCode: 0 Status: OK