Package: memes Version: 1.19.0 Command: /Library/Frameworks/R.framework/Resources/bin/R CMD build --keep-empty-dirs --no-resave-data memes StartedAt: 2025-11-21 16:51:30 -0500 (Fri, 21 Nov 2025) EndedAt: 2025-11-21 16:51:58 -0500 (Fri, 21 Nov 2025) EllapsedTime: 27.3 seconds RetCode: 0 Status: OK PackageFile: memes_1.19.0.tar.gz PackageFileSize: 1.1 MiB