Package: mdqc Version: 1.73.0 Command: /home/biocbuild/bbs-3.23-bioc/R/bin/R CMD INSTALL mdqc StartedAt: 2025-11-07 15:02:50 -0500 (Fri, 07 Nov 2025) EndedAt: 2025-11-07 15:03:02 -0500 (Fri, 07 Nov 2025) EllapsedTime: 11.9 seconds RetCode: 0 Status: OK