Package: mdqc Version: 1.73.0 Command: /home/biocbuild/bbs-3.23-bioc/R/bin/R CMD build --keep-empty-dirs --no-resave-data mdqc StartedAt: 2025-11-07 18:25:32 -0500 (Fri, 07 Nov 2025) EndedAt: 2025-11-07 18:25:39 -0500 (Fri, 07 Nov 2025) EllapsedTime: 7.0 seconds RetCode: 0 Status: OK PackageFile: mdqc_1.73.0.tar.gz PackageFileSize: 258.6 KiB