Package: mdqc Version: 1.71.0 Command: /Library/Frameworks/R.framework/Resources/bin/R CMD INSTALL mdqc StartedAt: 2025-10-13 15:02:31 -0400 (Mon, 13 Oct 2025) EndedAt: 2025-10-13 15:02:37 -0400 (Mon, 13 Oct 2025) EllapsedTime: 5.5 seconds RetCode: 0 Status: OK