Package: mdp Version: 1.31.0 Command: /home/biocbuild/bbs-3.23-bioc/R/bin/R CMD INSTALL mdp StartedAt: 2025-11-02 15:14:33 -0500 (Sun, 02 Nov 2025) EndedAt: 2025-11-02 15:15:01 -0500 (Sun, 02 Nov 2025) EllapsedTime: 27.6 seconds RetCode: 0 Status: OK