Package: mdp Version: 1.31.0 Command: /home/biocbuild/bbs-3.23-bioc/R/bin/R CMD build --keep-empty-dirs --no-resave-data mdp StartedAt: 2025-11-03 18:22:16 -0500 (Mon, 03 Nov 2025) EndedAt: 2025-11-03 18:22:37 -0500 (Mon, 03 Nov 2025) EllapsedTime: 21.0 seconds RetCode: 0 Status: OK PackageFile: mdp_1.31.0.tar.gz PackageFileSize: 4.443 MiB