Package: mdp Version: 1.29.0 Command: /Library/Frameworks/R.framework/Resources/bin/R CMD INSTALL mdp StartedAt: 2025-10-08 15:14:14 -0400 (Wed, 08 Oct 2025) EndedAt: 2025-10-08 15:14:49 -0400 (Wed, 08 Oct 2025) EllapsedTime: 35.2 seconds RetCode: 0 Status: OK