Package: mdp Version: 1.29.0 Command: /Library/Frameworks/R.framework/Resources/bin/R CMD build --keep-empty-dirs --no-resave-data mdp StartedAt: 2025-10-08 17:51:11 -0400 (Wed, 08 Oct 2025) EndedAt: 2025-10-08 17:51:50 -0400 (Wed, 08 Oct 2025) EllapsedTime: 39.1 seconds RetCode: 0 Status: OK PackageFile: mdp_1.29.0.tar.gz PackageFileSize: 4.4 MiB