Package: mdp Version: 1.29.0 Command: rm -rf mdp.buildbin-libdir && mkdir mdp.buildbin-libdir && /Users/biocbuild/BBS/utils/build-universal.sh mdp_1.29.0.tar.gz /Library/Frameworks/R.framework/Resources/bin/R mdp.buildbin-libdir StartedAt: 2025-10-09 02:39:53 -0400 (Thu, 09 Oct 2025) EndedAt: 2025-10-09 02:40:03 -0400 (Thu, 09 Oct 2025) EllapsedTime: 10.4 seconds RetCode: 0 Status: OK PackageFile: mdp_1.29.0.tgz PackageFileSize: 4.364 MiB