Package: mbkmeans Version: 1.27.0 Command: /home/biocbuild/bbs-3.23-bioc/R/bin/R CMD INSTALL mbkmeans StartedAt: 2025-11-19 15:22:25 -0500 (Wed, 19 Nov 2025) EndedAt: 2025-11-19 15:23:14 -0500 (Wed, 19 Nov 2025) EllapsedTime: 49.0 seconds RetCode: 0 Status: OK