Package: mbkmeans Version: 1.27.0 Command: /home/biocbuild/bbs-3.23-bioc/R/bin/R CMD build --keep-empty-dirs --no-resave-data mbkmeans StartedAt: 2025-11-19 18:31:52 -0500 (Wed, 19 Nov 2025) EndedAt: 2025-11-19 18:33:22 -0500 (Wed, 19 Nov 2025) EllapsedTime: 90.1 seconds RetCode: 0 Status: OK PackageFile: mbkmeans_1.27.0.tar.gz PackageFileSize: 293.1 KiB