Package: mbkmeans Version: 1.25.0 Command: /Library/Frameworks/R.framework/Resources/bin/R CMD INSTALL mbkmeans StartedAt: 2025-10-12 15:21:18 -0400 (Sun, 12 Oct 2025) EndedAt: 2025-10-12 15:22:16 -0400 (Sun, 12 Oct 2025) EllapsedTime: 57.4 seconds RetCode: 0 Status: OK