Package: mbQTL Version: 1.9.0 Command: /Library/Frameworks/R.framework/Resources/bin/R CMD build --keep-empty-dirs --no-resave-data mbQTL StartedAt: 2025-10-27 17:32:02 -0400 (Mon, 27 Oct 2025) EndedAt: 2025-10-27 17:33:25 -0400 (Mon, 27 Oct 2025) EllapsedTime: 82.3 seconds RetCode: 0 Status: OK PackageFile: mbQTL_1.9.0.tar.gz PackageFileSize: 1.46 MiB