Package: mbQTL Version: 1.9.0 Command: /Library/Frameworks/R.framework/Resources/bin/R CMD INSTALL mbQTL StartedAt: 2025-10-10 15:09:46 -0400 (Fri, 10 Oct 2025) EndedAt: 2025-10-10 15:09:52 -0400 (Fri, 10 Oct 2025) EllapsedTime: 5.4 seconds RetCode: 0 Status: OK