Package: matter Version: 2.13.0 Command: /Library/Frameworks/R.framework/Resources/bin/R CMD INSTALL matter StartedAt: 2025-11-21 15:06:42 -0500 (Fri, 21 Nov 2025) EndedAt: 2025-11-21 15:06:55 -0500 (Fri, 21 Nov 2025) EllapsedTime: 13.4 seconds RetCode: 0 Status: OK