Package: matchBox Version: 1.53.0 Command: /Library/Frameworks/R.framework/Resources/bin/R CMD INSTALL matchBox StartedAt: 2025-11-23 15:01:42 -0500 (Sun, 23 Nov 2025) EndedAt: 2025-11-23 15:01:46 -0500 (Sun, 23 Nov 2025) EllapsedTime: 3.4 seconds RetCode: 0 Status: OK