Package: matchBox Version: 1.53.0 Command: /Library/Frameworks/R.framework/Resources/bin/R CMD build --keep-empty-dirs --no-resave-data matchBox StartedAt: 2025-11-23 16:51:37 -0500 (Sun, 23 Nov 2025) EndedAt: 2025-11-23 16:51:43 -0500 (Sun, 23 Nov 2025) EllapsedTime: 5.1 seconds RetCode: 0 Status: OK PackageFile: matchBox_1.53.0.tar.gz PackageFileSize: 605 KiB