Package: matchBox Version: 1.53.0 Command: rm -rf matchBox.buildbin-libdir && mkdir matchBox.buildbin-libdir && /Users/biocbuild/BBS/utils/build-universal.sh matchBox_1.53.0.tar.gz /Library/Frameworks/R.framework/Resources/bin/R matchBox.buildbin-libdir StartedAt: 2025-11-23 23:42:00 -0500 (Sun, 23 Nov 2025) EndedAt: 2025-11-23 23:42:02 -0500 (Sun, 23 Nov 2025) EllapsedTime: 2.1 seconds RetCode: 0 Status: OK PackageFile: matchBox_1.53.0.tgz PackageFileSize: 634.2 KiB