Package: mastR Version: 1.11.0 Command: /home/biocbuild/bbs-3.23-bioc/R/bin/R CMD INSTALL mastR StartedAt: 2025-11-06 15:31:33 -0500 (Thu, 06 Nov 2025) EndedAt: 2025-11-06 15:32:16 -0500 (Thu, 06 Nov 2025) EllapsedTime: 43.0 seconds RetCode: 0 Status: OK