Package: mastR Version: 1.11.0 Command: /home/biocbuild/bbs-3.23-bioc/R/bin/R CMD build --keep-empty-dirs --no-resave-data mastR StartedAt: 2025-11-06 18:21:50 -0500 (Thu, 06 Nov 2025) EndedAt: 2025-11-06 18:24:11 -0500 (Thu, 06 Nov 2025) EllapsedTime: 141.1 seconds RetCode: 0 Status: OK PackageFile: mastR_1.11.0.tar.gz PackageFileSize: 4.175 MiB