Package: mastR Version: 1.9.1 Command: /Library/Frameworks/R.framework/Resources/bin/R CMD INSTALL mastR StartedAt: 2025-10-13 15:13:23 -0400 (Mon, 13 Oct 2025) EndedAt: 2025-10-13 15:13:39 -0400 (Mon, 13 Oct 2025) EllapsedTime: 16.5 seconds RetCode: 0 Status: OK