Package: mastR Version: 1.9.1 Command: /Library/Frameworks/R.framework/Resources/bin/R CMD build --keep-empty-dirs --no-resave-data mastR StartedAt: 2025-10-13 16:52:50 -0400 (Mon, 13 Oct 2025) EndedAt: 2025-10-13 16:53:51 -0400 (Mon, 13 Oct 2025) EllapsedTime: 60.7 seconds RetCode: 0 Status: OK PackageFile: mastR_1.9.1.tar.gz PackageFileSize: 4.126 MiB