Package: massiR Version: 1.47.0 Command: /home/biocbuild/bbs-3.23-bioc/R/bin/R CMD build --keep-empty-dirs --no-resave-data massiR StartedAt: 2025-11-20 18:26:53 -0500 (Thu, 20 Nov 2025) EndedAt: 2025-11-20 18:27:00 -0500 (Thu, 20 Nov 2025) EllapsedTime: 7.0 seconds RetCode: 0 Status: OK PackageFile: massiR_1.47.0.tar.gz PackageFileSize: 1.115 MiB