Package: massiR Version: 1.47.0 Command: /Library/Frameworks/R.framework/Resources/bin/R CMD INSTALL massiR StartedAt: 2025-11-21 15:19:05 -0500 (Fri, 21 Nov 2025) EndedAt: 2025-11-21 15:19:15 -0500 (Fri, 21 Nov 2025) EllapsedTime: 10.3 seconds RetCode: 0 Status: OK