Package: massiR Version: 1.47.0 Command: /Library/Frameworks/R.framework/Resources/bin/R CMD build --keep-empty-dirs --no-resave-data massiR StartedAt: 2025-11-21 17:34:23 -0500 (Fri, 21 Nov 2025) EndedAt: 2025-11-21 17:34:35 -0500 (Fri, 21 Nov 2025) EllapsedTime: 12.6 seconds RetCode: 0 Status: OK PackageFile: massiR_1.47.0.tar.gz PackageFileSize: 1.115 MiB