Package: massiR Version: 1.47.0 Command: rm -rf massiR.buildbin-libdir && mkdir massiR.buildbin-libdir && /Users/biocbuild/BBS/utils/build-universal.sh massiR_1.47.0.tar.gz /Library/Frameworks/R.framework/Resources/bin/R massiR.buildbin-libdir StartedAt: 2025-11-22 01:41:51 -0500 (Sat, 22 Nov 2025) EndedAt: 2025-11-22 01:41:59 -0500 (Sat, 22 Nov 2025) EllapsedTime: 8.2 seconds RetCode: 0 Status: OK PackageFile: massiR_1.47.0.tgz PackageFileSize: 1.148 MiB