Package: maskBAD Version: 1.55.0 Command: /home/biocbuild/bbs-3.23-bioc/R/bin/R CMD INSTALL maskBAD StartedAt: 2025-11-20 15:57:20 -0500 (Thu, 20 Nov 2025) EndedAt: 2025-11-20 15:57:31 -0500 (Thu, 20 Nov 2025) EllapsedTime: 10.4 seconds RetCode: 0 Status: OK