Package: maskBAD Version: 1.55.0 Command: /home/biocbuild/bbs-3.23-bioc/R/bin/R CMD build --keep-empty-dirs --no-resave-data maskBAD StartedAt: 2025-11-20 18:26:47 -0500 (Thu, 20 Nov 2025) EndedAt: 2025-11-20 18:28:03 -0500 (Thu, 20 Nov 2025) EllapsedTime: 76.1 seconds RetCode: 0 Status: OK PackageFile: maskBAD_1.55.0.tar.gz PackageFileSize: 1.545 MiB