Package: maskBAD Version: 1.53.0 Command: /Library/Frameworks/R.framework/Resources/bin/R CMD INSTALL maskBAD StartedAt: 2025-10-16 15:43:03 -0400 (Thu, 16 Oct 2025) EndedAt: 2025-10-16 15:43:07 -0400 (Thu, 16 Oct 2025) EllapsedTime: 4.3 seconds RetCode: 0 Status: OK