Package: maskBAD Version: 1.53.0 Command: /Library/Frameworks/R.framework/Resources/bin/R CMD build --keep-empty-dirs --no-resave-data maskBAD StartedAt: 2025-10-15 16:54:32 -0400 (Wed, 15 Oct 2025) EndedAt: 2025-10-15 16:55:04 -0400 (Wed, 15 Oct 2025) EllapsedTime: 31.3 seconds RetCode: 0 Status: OK PackageFile: maskBAD_1.53.0.tar.gz PackageFileSize: 1.543 MiB