Package: maser Version: 1.29.0 Command: /home/biocbuild/bbs-3.23-bioc/R/bin/R CMD INSTALL maser StartedAt: 2025-11-02 15:55:58 -0500 (Sun, 02 Nov 2025) EndedAt: 2025-11-02 15:56:54 -0500 (Sun, 02 Nov 2025) EllapsedTime: 56.2 seconds RetCode: 0 Status: OK