Package: maser Version: 1.29.0 Command: /home/biocbuild/bbs-3.23-bioc/R/bin/R CMD build --keep-empty-dirs --no-resave-data maser StartedAt: 2025-11-02 18:23:11 -0500 (Sun, 02 Nov 2025) EndedAt: 2025-11-02 18:25:37 -0500 (Sun, 02 Nov 2025) EllapsedTime: 146.1 seconds RetCode: 0 Status: OK PackageFile: maser_1.29.0.tar.gz PackageFileSize: 2.921 MiB