Package: maser Version: 1.28.0 Command: /Library/Frameworks/R.framework/Resources/bin/R CMD INSTALL maser StartedAt: 2025-10-29 21:47:27 -0400 (Wed, 29 Oct 2025) EndedAt: 2025-10-29 21:47:50 -0400 (Wed, 29 Oct 2025) EllapsedTime: 23.0 seconds RetCode: 0 Status: OK