Package: maser Version: 1.28.0 Command: /Library/Frameworks/R.framework/Resources/bin/R CMD build --keep-empty-dirs --no-resave-data maser StartedAt: 2025-10-29 23:17:26 -0400 (Wed, 29 Oct 2025) EndedAt: 2025-10-29 23:18:34 -0400 (Wed, 29 Oct 2025) EllapsedTime: 67.7 seconds RetCode: 0 Status: OK PackageFile: maser_1.28.0.tar.gz PackageFileSize: 2.974 MiB