Package: maser Version: 1.28.0 Command: rm -rf maser.buildbin-libdir && mkdir maser.buildbin-libdir && /Users/biocbuild/BBS/utils/build-universal.sh maser_1.28.0.tar.gz /Library/Frameworks/R.framework/Resources/bin/R maser.buildbin-libdir StartedAt: 2025-10-30 05:29:58 -0400 (Thu, 30 Oct 2025) EndedAt: 2025-10-30 05:30:22 -0400 (Thu, 30 Oct 2025) EllapsedTime: 24.4 seconds RetCode: 0 Status: OK PackageFile: maser_1.28.0.tgz PackageFileSize: 3.849 MiB