Package: martini Version: 1.31.0 Command: /home/biocbuild/bbs-3.23-bioc/R/bin/R CMD INSTALL martini StartedAt: 2025-11-21 15:14:34 -0500 (Fri, 21 Nov 2025) EndedAt: 2025-11-21 15:14:55 -0500 (Fri, 21 Nov 2025) EllapsedTime: 21.2 seconds RetCode: 0 Status: OK