Package: martini Version: 1.31.0 Command: /home/biocbuild/bbs-3.23-bioc/R/bin/R CMD build --keep-empty-dirs --no-resave-data martini StartedAt: 2025-11-21 18:27:00 -0500 (Fri, 21 Nov 2025) EndedAt: 2025-11-21 18:27:24 -0500 (Fri, 21 Nov 2025) EllapsedTime: 24.0 seconds RetCode: 0 Status: OK PackageFile: martini_1.31.0.tar.gz PackageFileSize: 2.995 MiB