Package: martini Version: 1.31.0 Command: /Library/Frameworks/R.framework/Resources/bin/R CMD INSTALL martini StartedAt: 2025-11-21 15:20:15 -0500 (Fri, 21 Nov 2025) EndedAt: 2025-11-21 15:20:43 -0500 (Fri, 21 Nov 2025) EllapsedTime: 27.8 seconds RetCode: 0 Status: OK