Package: martini Version: 1.31.0 Command: /Library/Frameworks/R.framework/Resources/bin/R CMD build --keep-empty-dirs --no-resave-data martini StartedAt: 2025-11-21 17:34:03 -0500 (Fri, 21 Nov 2025) EndedAt: 2025-11-21 17:34:34 -0500 (Fri, 21 Nov 2025) EllapsedTime: 30.9 seconds RetCode: 0 Status: OK PackageFile: martini_1.31.0.tar.gz PackageFileSize: 3.006 MiB