Package: martini Version: 1.31.0 Command: rm -rf martini.buildbin-libdir && mkdir martini.buildbin-libdir && /Users/biocbuild/BBS/utils/build-universal.sh martini_1.31.0.tar.gz /Library/Frameworks/R.framework/Resources/bin/R martini.buildbin-libdir StartedAt: 2025-11-22 01:41:45 -0500 (Sat, 22 Nov 2025) EndedAt: 2025-11-22 01:42:20 -0500 (Sat, 22 Nov 2025) EllapsedTime: 34.9 seconds RetCode: 0 Status: OK PackageFile: martini_1.31.0.tgz PackageFileSize: 712.4 KiB