Package: martini Version: 1.29.0 Command: rm -rf martini.buildbin-libdir && mkdir martini.buildbin-libdir && /Users/biocbuild/BBS/utils/build-universal.sh martini_1.29.0.tar.gz /Library/Frameworks/R.framework/Resources/bin/R martini.buildbin-libdir StartedAt: 2025-10-27 23:07:52 -0400 (Mon, 27 Oct 2025) EndedAt: 2025-10-27 23:08:01 -0400 (Mon, 27 Oct 2025) EllapsedTime: 8.2 seconds RetCode: 0 Status: OK PackageFile: martini_1.29.0.tgz PackageFileSize: 698.7 KiB