Package: marray Version: 1.87.0 Command: /Library/Frameworks/R.framework/Resources/bin/R CMD INSTALL marray StartedAt: 2025-10-13 15:07:42 -0400 (Mon, 13 Oct 2025) EndedAt: 2025-10-13 15:08:24 -0400 (Mon, 13 Oct 2025) EllapsedTime: 41.4 seconds RetCode: 0 Status: OK