Package: marray Version: 1.87.0 Command: /Library/Frameworks/R.framework/Resources/bin/R CMD build --keep-empty-dirs --no-resave-data marray StartedAt: 2025-10-14 17:49:51 -0400 (Tue, 14 Oct 2025) EndedAt: 2025-10-14 17:51:20 -0400 (Tue, 14 Oct 2025) EllapsedTime: 88.7 seconds RetCode: 0 Status: OK PackageFile: marray_1.87.0.tar.gz PackageFileSize: 5.626 MiB