Package: marray Version: 1.87.0 Command: /Library/Frameworks/R.framework/Resources/bin/R CMD INSTALL marray StartedAt: 2025-10-01 15:02:43 -0400 (Wed, 01 Oct 2025) EndedAt: 2025-10-01 15:02:46 -0400 (Wed, 01 Oct 2025) EllapsedTime: 2.8 seconds RetCode: 0 Status: OK