Package: marray Version: 1.87.0 Command: /Library/Frameworks/R.framework/Resources/bin/R CMD build --keep-empty-dirs --no-resave-data marray StartedAt: 2025-10-01 16:55:06 -0400 (Wed, 01 Oct 2025) EndedAt: 2025-10-01 16:55:31 -0400 (Wed, 01 Oct 2025) EllapsedTime: 25.3 seconds RetCode: 0 Status: OK PackageFile: marray_1.87.0.tar.gz PackageFileSize: 5.635 MiB