Back to Build/check report for BioC 3.23:   simplified   long
ABCDEFGHIJKL[M]NOPQRSTUVWXYZ

This page was generated on 2025-10-31 08:34 -0400 (Fri, 31 Oct 2025).

HostnameOSArch (*)R versionInstalled pkgs
nebbiolo1Linux (Ubuntu 24.04.3 LTS)x86_64R Under development (unstable) (2025-10-20 r88955) -- "Unsuffered Consequences" 4428
Click on any hostname to see more info about the system (e.g. compilers)      (*) as reported by 'uname -p', except on Windows and Mac OS X

All results for package marray


To the developers/maintainers of the marray package:
- Allow up to 24 hours (and sometimes 48 hours) for your latest push to git@git.bioconductor.org:packages/marray.git to reflect on this report. See Troubleshooting Build Report for more information.
- Use the following Renviron settings to reproduce errors and warnings.
- If 'R CMD check' started to fail recently on the Linux builder(s) over a missing dependency, add the missing dependency to 'Suggests:' in your DESCRIPTION file. See Renviron.bioc for more information.

raw results

Package 1170/2321HostnameOS / ArchINSTALLBUILDCHECKBUILD BIN
marray 1.89.0  (landing page)
Yee Hwa (Jean) Yang
Snapshot Date: 2025-10-30 13:40 -0400 (Thu, 30 Oct 2025)
git_url: https://git.bioconductor.org/packages/marray
git_branch: devel
git_last_commit: 7dc98b0
git_last_commit_date: 2025-10-29 09:54:52 -0400 (Wed, 29 Oct 2025)
nebbiolo1Linux (Ubuntu 24.04.3 LTS) / x86_64  OK    OK    OK  YES



Results for Bioconductor software packages that depend directly on package marray

QUICK STATSOS / ArchINSTALLBUILDCHECKBUILD BIN
nebbiolo1Linux (Ubuntu 24.04.3 LTS) / x86_64
0215
0413
0139
Package 1/17HostnameOS / ArchINSTALLBUILDCHECKBUILD BIN
arrayQuality 1.89.0  (landing page)
Agnes Paquet
git_last_commit: 354cf88
git_last_commit_date: 2025-10-29 09:54:41 -0400
nebbiolo1Linux (Ubuntu 24.04.3 LTS) / x86_64  OK    OK    WARNINGS  YES
Package 2/17HostnameOS / ArchINSTALLBUILDCHECKBUILD BIN
CGHbase 1.71.0  (landing page)
Mark van de Wiel
git_last_commit: 709264e
git_last_commit_date: 2025-10-29 10:00:38 -0400
nebbiolo1Linux (Ubuntu 24.04.3 LTS) / x86_64  OK    OK    OK  YES
Package 3/17HostnameOS / ArchINSTALLBUILDCHECKBUILD BIN
ChAMP 2.41.0  (landing page)
Yuan Tian
git_last_commit: 8bc9b68
git_last_commit_date: 2025-10-29 10:17:05 -0400
nebbiolo1Linux (Ubuntu 24.04.3 LTS) / x86_64  ERROR    ERROR  skipped
Package 4/17HostnameOS / ArchINSTALLBUILDCHECKBUILD BIN
convert 1.87.0  (landing page)
Yee Hwa (Jean) Yang
git_last_commit: 3e7aa0d
git_last_commit_date: 2025-10-29 09:54:55 -0400
nebbiolo1Linux (Ubuntu 24.04.3 LTS) / x86_64  OK    OK    OK  YES
Package 5/17HostnameOS / ArchINSTALLBUILDCHECKBUILD BIN
dyebias 1.71.0  (landing page)
Philip Lijnzaad
git_last_commit: a92f3f9
git_last_commit_date: 2025-10-29 10:02:35 -0400
nebbiolo1Linux (Ubuntu 24.04.3 LTS) / x86_64  OK    OK    OK  YES
Package 6/17HostnameOS / ArchINSTALLBUILDCHECKBUILD BIN
methylPipe 1.45.0  (landing page)
Mattia Furlan
git_last_commit: 1246c88
git_last_commit_date: 2025-10-29 10:21:09 -0400
nebbiolo1Linux (Ubuntu 24.04.3 LTS) / x86_64  OK    ERROR  skipped
Package 7/17HostnameOS / ArchINSTALLBUILDCHECKBUILD BIN
MineICA 1.51.0  (landing page)
Anne Biton
git_last_commit: b926f54
git_last_commit_date: 2025-10-29 10:13:40 -0400
nebbiolo1Linux (Ubuntu 24.04.3 LTS) / x86_64  ERROR    ERROR  skipped
Package 8/17HostnameOS / ArchINSTALLBUILDCHECKBUILD BIN
MSstats 4.19.0  (landing page)
Meena Choi
git_last_commit: 5806648
git_last_commit_date: 2025-10-29 10:16:50 -0400
nebbiolo1Linux (Ubuntu 24.04.3 LTS) / x86_64  OK    OK    WARNINGS  YES
Package 9/17HostnameOS / ArchINSTALLBUILDCHECKBUILD BIN
MSstatsShiny 1.13.0  (landing page)
Anthony Wu
git_last_commit: 3491ecd
git_last_commit_date: 2025-10-29 11:20:02 -0400
nebbiolo1Linux (Ubuntu 24.04.3 LTS) / x86_64  OK    OK    WARNINGS  NO, package depends on 'MSstatsPTM' which is not available
Package 10/17HostnameOS / ArchINSTALLBUILDCHECKBUILD BIN
nnNorm 2.75.0  (landing page)
Adi Laurentiu Tarca
git_last_commit: f06fb71
git_last_commit_date: 2025-10-29 09:55:21 -0400
nebbiolo1Linux (Ubuntu 24.04.3 LTS) / x86_64  OK    OK    OK  YES
Package 11/17HostnameOS / ArchINSTALLBUILDCHECKBUILD BIN
OLIN 1.89.0  (landing page)
Matthias Futschik
git_last_commit: e409e58
git_last_commit_date: 2025-10-29 09:55:15 -0400
nebbiolo1Linux (Ubuntu 24.04.3 LTS) / x86_64  OK    OK    OK  YES
Package 12/17HostnameOS / ArchINSTALLBUILDCHECKBUILD BIN
OLINgui 1.85.0  (landing page)
Matthias Futschik
git_last_commit: c20e2c9
git_last_commit_date: 2025-10-29 09:55:35 -0400
nebbiolo1Linux (Ubuntu 24.04.3 LTS) / x86_64  OK    OK    OK  NO, package depends on 'tkWidgets' which is not available
Package 13/17HostnameOS / ArchINSTALLBUILDCHECKBUILD BIN
piano 2.27.0  (landing page)
Leif Varemo Wigge
git_last_commit: f61c2c0
git_last_commit_date: 2025-10-29 10:14:36 -0400
nebbiolo1Linux (Ubuntu 24.04.3 LTS) / x86_64  OK    ERROR  skipped
Package 14/17HostnameOS / ArchINSTALLBUILDCHECKBUILD BIN
RBM 1.43.0  (landing page)
Dongmei Li
git_last_commit: f326c20
git_last_commit_date: 2025-10-29 10:25:01 -0400
nebbiolo1Linux (Ubuntu 24.04.3 LTS) / x86_64  OK    OK    OK  YES
Package 15/17HostnameOS / ArchINSTALLBUILDCHECKBUILD BIN
stepNorm 1.83.0  (landing page)
Yuanyuan Xiao
git_last_commit: efe8204
git_last_commit_date: 2025-10-29 09:55:38 -0400
nebbiolo1Linux (Ubuntu 24.04.3 LTS) / x86_64  OK    OK    OK  YES
Package 16/17HostnameOS / ArchINSTALLBUILDCHECKBUILD BIN
timecourse 1.83.0  (landing page)
Yu Chuan Tai
git_last_commit: 7b6e6b3
git_last_commit_date: 2025-10-29 09:56:54 -0400
nebbiolo1Linux (Ubuntu 24.04.3 LTS) / x86_64  OK    OK    OK  YES
Package 17/17HostnameOS / ArchINSTALLBUILDCHECKBUILD BIN
TurboNorm 1.59.0  (landing page)
Maarten van Iterson
git_last_commit: 037c11e
git_last_commit_date: 2025-10-29 10:06:24 -0400
nebbiolo1Linux (Ubuntu 24.04.3 LTS) / x86_64  OK    OK    ERROR